BEGIN:VCALENDAR
VERSION:2.0
PRODID:-//Ebenfeld MB Church - ECPv6.15.20//NONSGML v1.0//EN
CALSCALE:GREGORIAN
METHOD:PUBLISH
X-WR-CALNAME:Ebenfeld MB Church
X-ORIGINAL-URL:https://ebenfeld.org
X-WR-CALDESC:Events for Ebenfeld MB Church
REFRESH-INTERVAL;VALUE=DURATION:PT1H
X-Robots-Tag:noindex
X-PUBLISHED-TTL:PT1H
BEGIN:VTIMEZONE
TZID:America/Chicago
BEGIN:DAYLIGHT
TZOFFSETFROM:-0600
TZOFFSETTO:-0500
TZNAME:CDT
DTSTART:20230312T080000
END:DAYLIGHT
BEGIN:STANDARD
TZOFFSETFROM:-0500
TZOFFSETTO:-0600
TZNAME:CST
DTSTART:20231105T070000
END:STANDARD
BEGIN:DAYLIGHT
TZOFFSETFROM:-0600
TZOFFSETTO:-0500
TZNAME:CDT
DTSTART:20240310T080000
END:DAYLIGHT
BEGIN:STANDARD
TZOFFSETFROM:-0500
TZOFFSETTO:-0600
TZNAME:CST
DTSTART:20241103T070000
END:STANDARD
BEGIN:DAYLIGHT
TZOFFSETFROM:-0600
TZOFFSETTO:-0500
TZNAME:CDT
DTSTART:20250309T080000
END:DAYLIGHT
BEGIN:STANDARD
TZOFFSETFROM:-0500
TZOFFSETTO:-0600
TZNAME:CST
DTSTART:20251102T070000
END:STANDARD
END:VTIMEZONE
BEGIN:VEVENT
DTSTART;VALUE=DATE:20240804
DTEND;VALUE=DATE:20240805
DTSTAMP:20260422T004819
CREATED:20240723T135926Z
LAST-MODIFIED:20240723T135926Z
UID:2519-1722729600-1722815999@ebenfeld.org
SUMMARY:Communion Sunday
DESCRIPTION:Our elements are gluten free
URL:https://ebenfeld.org/event/communion-sunday-3/
END:VEVENT
BEGIN:VEVENT
DTSTART;VALUE=DATE:20240805
DTEND;VALUE=DATE:20240810
DTSTAMP:20260422T004819
CREATED:20240611T154752Z
LAST-MODIFIED:20240611T154752Z
UID:2502-1722816000-1723247999@ebenfeld.org
SUMMARY:VBS with Parkview MB Church
DESCRIPTION:
URL:https://ebenfeld.org/event/vbs-with-parkview-mb-church/
LOCATION:Parkview MB Church\, 610 S Main\, Hillsboro\, KS\, 67063\, United States
END:VEVENT
BEGIN:VEVENT
DTSTART;TZID=America/Chicago:20240818T183000
DTEND;TZID=America/Chicago:20240818T203000
DTSTAMP:20260422T004819
CREATED:20240723T140058Z
LAST-MODIFIED:20240723T140058Z
UID:2521-1724005800-1724013000@ebenfeld.org
SUMMARY:Softball Game vs Aulne Church
DESCRIPTION:
URL:https://ebenfeld.org/event/softball-game-vs-aulne-church/
END:VEVENT
END:VCALENDAR