BEGIN:VCALENDAR
VERSION:2.0
PRODID:-//Ebenfeld MB Church - ECPv6.15.20//NONSGML v1.0//EN
CALSCALE:GREGORIAN
METHOD:PUBLISH
X-WR-CALNAME:Ebenfeld MB Church
X-ORIGINAL-URL:https://ebenfeld.org
X-WR-CALDESC:Events for Ebenfeld MB Church
REFRESH-INTERVAL;VALUE=DURATION:PT1H
X-Robots-Tag:noindex
X-PUBLISHED-TTL:PT1H
BEGIN:VTIMEZONE
TZID:America/Chicago
BEGIN:DAYLIGHT
TZOFFSETFROM:-0600
TZOFFSETTO:-0500
TZNAME:CDT
DTSTART:20230312T080000
END:DAYLIGHT
BEGIN:STANDARD
TZOFFSETFROM:-0500
TZOFFSETTO:-0600
TZNAME:CST
DTSTART:20231105T070000
END:STANDARD
BEGIN:DAYLIGHT
TZOFFSETFROM:-0600
TZOFFSETTO:-0500
TZNAME:CDT
DTSTART:20240310T080000
END:DAYLIGHT
BEGIN:STANDARD
TZOFFSETFROM:-0500
TZOFFSETTO:-0600
TZNAME:CST
DTSTART:20241103T070000
END:STANDARD
BEGIN:DAYLIGHT
TZOFFSETFROM:-0600
TZOFFSETTO:-0500
TZNAME:CDT
DTSTART:20250309T080000
END:DAYLIGHT
BEGIN:STANDARD
TZOFFSETFROM:-0500
TZOFFSETTO:-0600
TZNAME:CST
DTSTART:20251102T070000
END:STANDARD
END:VTIMEZONE
BEGIN:VEVENT
DTSTART;TZID=America/Chicago:20240904T183000
DTEND;TZID=America/Chicago:20240904T200000
DTSTAMP:20260421T213407
CREATED:20240820T151729Z
LAST-MODIFIED:20240820T151729Z
UID:2533-1725474600-1725480000@ebenfeld.org
SUMMARY:MBY
DESCRIPTION:
URL:https://ebenfeld.org/event/mby/
END:VEVENT
BEGIN:VEVENT
DTSTART;VALUE=DATE:20240915
DTEND;VALUE=DATE:20240916
DTSTAMP:20260421T213407
CREATED:20240820T152058Z
LAST-MODIFIED:20240820T152058Z
UID:2535-1726358400-1726444799@ebenfeld.org
SUMMARY:Tabor Service & Potluck
DESCRIPTION:Tabor Students – Please join us for Sunday school\, 9:15 a.m. \nWorship Service is at 10:30 a.m. \nStay for a fabulous potluck lunch following the service!
URL:https://ebenfeld.org/event/tabor-service-potluck-2/
END:VEVENT
BEGIN:VEVENT
DTSTART;TZID=America/Chicago:20240929T120000
DTEND;TZID=America/Chicago:20240929T140000
DTSTAMP:20260421T213407
CREATED:20240820T152229Z
LAST-MODIFIED:20240820T154816Z
UID:2537-1727611200-1727618400@ebenfeld.org
SUMMARY:Annual Church Business Meeting
DESCRIPTION:No childcare.  Lunch is provided.
URL:https://ebenfeld.org/event/annual-church-business-meeting/
END:VEVENT
END:VCALENDAR